BEGIN:VCALENDAR
VERSION:2.0
PRODID:-//Charity - ECPv6.15.16//NONSGML v1.0//EN
CALSCALE:GREGORIAN
METHOD:PUBLISH
X-ORIGINAL-URL:https://oswegochildrensboard.com
X-WR-CALDESC:Events for Charity
REFRESH-INTERVAL;VALUE=DURATION:PT1H
X-Robots-Tag:noindex
X-PUBLISHED-TTL:PT1H
BEGIN:VTIMEZONE
TZID:UTC
BEGIN:STANDARD
TZOFFSETFROM:+0000
TZOFFSETTO:+0000
TZNAME:UTC
DTSTART:20220101T000000
END:STANDARD
END:VTIMEZONE
BEGIN:VEVENT
DTSTART;TZID=UTC:20230418T183000
DTEND;TZID=UTC:20230418T200000
DTSTAMP:20260421T145536
CREATED:20220822T172322Z
LAST-MODIFIED:20220822T174856Z
UID:611-1681842600-1681848000@oswegochildrensboard.com
SUMMARY:CB April Meeting
DESCRIPTION:This month we celebrate!  \nJoin us at our awards ceremony to honor our 2023 Unsung Hero and Scholarship recipients \nFor more details contact our membership coordinator @oswegochildrensboard@gmail.com
URL:https://oswegochildrensboard.com/event/cb-april-meeting/
LOCATION:TBD
END:VEVENT
END:VCALENDAR